BEGIN:VCALENDAR
VERSION:2.0
PRODID:-//UNICRUZ | Universidade de Cruz Alta
CALSCALE:GREGORIAN
METHOD:PUBLISH
X-WR-CALNAME:UNICRUZ | Universidade de Cruz Alta
X-ORIGINAL-URL:https://home.unicruz.edu.br/event/xvi-jornada-de-enfermagem-entre-a-vida-que-gera-e-a-que-chega-ao-mundo-enfermagem-no-cuidado-materno-infantil/
X-WR-CALDESC:XVI JORNADA DE ENFERMAGEM “Entre a vida que gera e a que chega ao mundo: Enfermagem no cuidado Materno Infantil&#8221;
BEGIN:VEVENT
DTSTART:20260519T193000
DTEND:20260521T223000
SUMMARY:XVI JORNADA DE ENFERMAGEM “Entre a vida que gera e a que chega ao mundo: Enfermagem no cuidado Materno Infantil&#8221;
DESCRIPTION:
LOCATION:Unicruz Campus
END:VEVENT
END:VCALENDAR
