BEGIN:VCALENDAR
VERSION:2.0
PRODID:-//UNICRUZ | Universidade de Cruz Alta
CALSCALE:GREGORIAN
METHOD:PUBLISH
X-WR-CALNAME:UNICRUZ | Universidade de Cruz Alta
X-ORIGINAL-URL:https://home.unicruz.edu.br/event/palestras-sobre-identificacao-das-principais-serpentes-de-interesse-medico-no-brasil/
X-WR-CALDESC:Palestras sobre Identificação das principais serpentes de interesse médico no Brasil
BEGIN:VEVENT
DTSTART:20231007T140000
DTEND:20231007T163000
SUMMARY:Palestras sobre Identificação das principais serpentes de interesse médico no Brasil
DESCRIPTION:Ciclo de palestras promovido pelo Grupo de Estudos em Animais
Silvestre - Geas Unicruz. 
LOCATION:Ambiente virtual
END:VEVENT
END:VCALENDAR
