BEGIN:VCALENDAR
VERSION:2.0
PRODID:-//UNICRUZ | Universidade de Cruz Alta
CALSCALE:GREGORIAN
METHOD:PUBLISH
X-WR-CALNAME:UNICRUZ | Universidade de Cruz Alta
X-ORIGINAL-URL:https://home.unicruz.edu.br/event/p54187/
X-WR-CALDESC:Aula Inaugural Integrada dos Cursos de Biomedicina, Estética e Cosmética, Farmácia e Fisioterapia
BEGIN:VEVENT
DTSTART:20230810T190000
DTEND:20230810T220000
SUMMARY:Aula Inaugural Integrada dos Cursos de Biomedicina, Estética e Cosmética, Farmácia e Fisioterapia
DESCRIPTION:Tema: Aplicabilidade da toxina botulínica

LOCATION:Salão Nobre do Campus Universitário - Prédio 5
END:VEVENT
END:VCALENDAR
