BEGIN:VCALENDAR
VERSION:2.0
PRODID:-//UNICRUZ | Universidade de Cruz Alta
CALSCALE:GREGORIAN
METHOD:PUBLISH
X-WR-CALNAME:UNICRUZ | Universidade de Cruz Alta
X-ORIGINAL-URL:https://home.unicruz.edu.br/event/p54143/
X-WR-CALDESC:Ciclo de Palestras GEAS UNICRUZ – Condicionamento por esforço positivo
BEGIN:VEVENT
DTSTART:20230805T140000
DTEND:20230805T170000
SUMMARY:Ciclo de Palestras GEAS UNICRUZ – Condicionamento por esforço positivo
DESCRIPTION:Grupo de Estudos em Animais Silvestres
GEAS UNICRUZ.
LOCATION:Ambiente Virtual Google Meet 
END:VEVENT
END:VCALENDAR
