BEGIN:VCALENDAR
VERSION:2.0
PRODID:-//UNICRUZ | Universidade de Cruz Alta
CALSCALE:GREGORIAN
METHOD:PUBLISH
X-WR-CALNAME:UNICRUZ | Universidade de Cruz Alta
X-ORIGINAL-URL:https://home.unicruz.edu.br/event/p54133/
X-WR-CALDESC:Marketing Digital – Segredo para o verdadeiro engajamento
BEGIN:VEVENT
DTSTART:20230904T190000
DTEND:20230904T220000
SUMMARY:Marketing Digital – Segredo para o verdadeiro engajamento
DESCRIPTION:Promoção:
Curso de Administração e Agência de Empreendedorismo, Inovação e Transferência de Tecnologia da Universidade de Cruz Alta - START
LOCATION:Miniauditório do CCHS - Prédio 12 - Campus Universitário UNICRUZ
END:VEVENT
END:VCALENDAR
