BEGIN:VCALENDAR
VERSION:2.0
PRODID:-//UNICRUZ | Universidade de Cruz Alta
CALSCALE:GREGORIAN
METHOD:PUBLISH
X-WR-CALNAME:UNICRUZ | Universidade de Cruz Alta
X-ORIGINAL-URL:https://home.unicruz.edu.br/event/xxv-seminario-interinstitucional-de-ensino-pesquisa-e-extensao/
X-WR-CALDESC:XXV Seminário Interinstitucional de Ensino, Pesquisa e Extensão
BEGIN:VEVENT
DTSTART:20201124T143000
DTEND:20201127T223000
SUMMARY:XXV Seminário Interinstitucional de Ensino, Pesquisa e Extensão
DESCRIPTION:
LOCATION:Virtual
END:VEVENT
END:VCALENDAR
