BEGIN:VCALENDAR
VERSION:2.0
PRODID:-//UNICRUZ | Universidade de Cruz Alta
CALSCALE:GREGORIAN
METHOD:PUBLISH
X-WR-CALNAME:UNICRUZ | Universidade de Cruz Alta
X-ORIGINAL-URL:https://home.unicruz.edu.br/event/xxi-seminario-interno-de-pesquisa-do-ccsa-2/
X-WR-CALDESC:XXI Seminário Interno de Pesquisa do CCSA
BEGIN:VEVENT
DTSTART:20190625T190000
DTEND:20190625T223000
SUMMARY:XXI Seminário Interno de Pesquisa do CCSA
DESCRIPTION:
LOCATION:Salão Nobre - Campus Universitário
END:VEVENT
END:VCALENDAR
