BEGIN:VCALENDAR
VERSION:2.0
PRODID:-//UNICRUZ | Universidade de Cruz Alta
CALSCALE:GREGORIAN
METHOD:PUBLISH
X-WR-CALNAME:UNICRUZ | Universidade de Cruz Alta
X-ORIGINAL-URL:https://home.unicruz.edu.br/event/oficina-plano-de-negocio/
X-WR-CALDESC:Observatório Profissional: Oficina Plano de Negócio
BEGIN:VEVENT
DTSTART:20170506T000000
DTEND:20170506T000000
SUMMARY:Observatório Profissional: Oficina Plano de Negócio
DESCRIPTION:
LOCATION:Laboratório de Informática CCHS
END:VEVENT
END:VCALENDAR
